BEGIN:VCALENDAR
VERSION:2.0
PRODID:-//Victoria Baths - ECPv6.15.20//NONSGML v1.0//EN
CALSCALE:GREGORIAN
METHOD:PUBLISH
X-ORIGINAL-URL:https://victoriabaths.org.uk
X-WR-CALDESC:Events for Victoria Baths
REFRESH-INTERVAL;VALUE=DURATION:PT1H
X-Robots-Tag:noindex
X-PUBLISHED-TTL:PT1H
BEGIN:VTIMEZONE
TZID:Europe/London
BEGIN:DAYLIGHT
TZOFFSETFROM:+0000
TZOFFSETTO:+0100
TZNAME:BST
DTSTART:20220327T010000
END:DAYLIGHT
BEGIN:STANDARD
TZOFFSETFROM:+0100
TZOFFSETTO:+0000
TZNAME:GMT
DTSTART:20221030T010000
END:STANDARD
BEGIN:DAYLIGHT
TZOFFSETFROM:+0000
TZOFFSETTO:+0100
TZNAME:BST
DTSTART:20230326T010000
END:DAYLIGHT
BEGIN:STANDARD
TZOFFSETFROM:+0100
TZOFFSETTO:+0000
TZNAME:GMT
DTSTART:20231029T010000
END:STANDARD
BEGIN:DAYLIGHT
TZOFFSETFROM:+0000
TZOFFSETTO:+0100
TZNAME:BST
DTSTART:20240331T010000
END:DAYLIGHT
BEGIN:STANDARD
TZOFFSETFROM:+0100
TZOFFSETTO:+0000
TZNAME:GMT
DTSTART:20241027T010000
END:STANDARD
END:VTIMEZONE
BEGIN:VEVENT
DTSTART;TZID=Europe/London:20231117T183000
DTEND;TZID=Europe/London:20231117T183000
DTSTAMP:20260422T113234
CREATED:20231010T102834Z
LAST-MODIFIED:20231130T164408Z
UID:4357-1700245800-1700245800@victoriabaths.org.uk
SUMMARY:Gin to my Tonic\, 17 - 18 November 2023
DESCRIPTION:Craft Gin & Distilling\nWinner Of Best Gin Event\, The Gin To My Tonic Show: The Ultimate Gin & Spirit Festival returns to Manchester on 17th-18th November 2023\, bigger and better and more immersive than ever before! And it’s not just gin as we bring you rum\, rum\, vodka\, tequila\, whisky and more… \nAn Aladdin’s cave of craft spirits await all that attend as craft gin and spirit distillers old and new unite to take you on the ultimate ’spirited’ adventure. You’ll be able to enjoy unlimited tasting samples as you work the room\, with a choice of over 250 craft gins and spirits\, but that’s not all… \nLike what you’ve tried? Why not treat yourself to a full size G&T or artisan cocktail. Fancy learning more? Join our immersive workshops and masterclasses lead by industry experts. Want to relax and have fun? Take a seat and let our bar team serve up some gin exclusives. Looking for something other than gin? Our distillers will also be sharing vodka\, rum\, whisky and more\, meaning there’s something for everyone.  No other Craft Gin & Spirit Festival brings together the wonderful world of craft gin and spirits in quite the same way\, so for those looking to celebrate all things gin and indulge with the UK’s very best craft spirit producers\, then this is most certainly the Spirit Festival for you. \nTickets for Gin to my Tonic are on sale now\n\n		\n		\n			\n				\n			\n				\n				Gin to my Tonic\n				\n			\n				\n			\n				\n				Gin to my Tonic\n				\n			\n				\n			\n				\n				Gin to my Tonic\n				\n		\n\nEvent Information\nThe Gin to my Tonic Show is open to the public on \nFriday 17th November 2023. 6.30pm – 10.30pm \nSaturday 18th November 2023. 12.00pm – 4.00pm \nSaturday 18th November 2023. 6.00pm – 10.00pm \nTickets\nTickets are available from The Gin to my Tonic Show Manchester
URL:https://victoriabaths.org.uk/event/ginfest/
LOCATION:Victoria Baths\, Hathersage Road\, Chorlton-on-Medlock\, Greater Manchester\, M13 0FE\, United Kingdom
ATTACH;FMTTYPE=image/jpeg:https://victoriabaths.org.uk/wp-content/uploads/2023/09/The-Gin-To-My-Tonic-Show.jpg
ORGANIZER;CN="Gin to my Tonic":MAILTO:enquiries@thegintomytonic.com
END:VEVENT
END:VCALENDAR