BEGIN:VCALENDAR
VERSION:2.0
PRODID:-//Victoria Baths - ECPv6.15.20//NONSGML v1.0//EN
CALSCALE:GREGORIAN
METHOD:PUBLISH
X-WR-CALNAME:Victoria Baths
X-ORIGINAL-URL:https://victoriabaths.org.uk
X-WR-CALDESC:Events for Victoria Baths
REFRESH-INTERVAL;VALUE=DURATION:PT1H
X-Robots-Tag:noindex
X-PUBLISHED-TTL:PT1H
BEGIN:VTIMEZONE
TZID:Europe/London
BEGIN:DAYLIGHT
TZOFFSETFROM:+0000
TZOFFSETTO:+0100
TZNAME:BST
DTSTART:20230326T010000
END:DAYLIGHT
BEGIN:STANDARD
TZOFFSETFROM:+0100
TZOFFSETTO:+0000
TZNAME:GMT
DTSTART:20231029T010000
END:STANDARD
BEGIN:DAYLIGHT
TZOFFSETFROM:+0000
TZOFFSETTO:+0100
TZNAME:BST
DTSTART:20240331T010000
END:DAYLIGHT
BEGIN:STANDARD
TZOFFSETFROM:+0100
TZOFFSETTO:+0000
TZNAME:GMT
DTSTART:20241027T010000
END:STANDARD
BEGIN:DAYLIGHT
TZOFFSETFROM:+0000
TZOFFSETTO:+0100
TZNAME:BST
DTSTART:20250330T010000
END:DAYLIGHT
BEGIN:STANDARD
TZOFFSETFROM:+0100
TZOFFSETTO:+0000
TZNAME:GMT
DTSTART:20251026T010000
END:STANDARD
END:VTIMEZONE
BEGIN:VEVENT
DTSTART;TZID=Europe/London:20241013T103000
DTEND;TZID=Europe/London:20241013T153000
DTSTAMP:20260422T003515
CREATED:20240729T162409Z
LAST-MODIFIED:20240815T163556Z
UID:6582-1728815400-1728833400@victoriabaths.org.uk
SUMMARY:Vintage Home Show\, Sunday 13 October
DESCRIPTION:Vintage Home Show returns to Victoria Baths!\nWe’re buzzing for Vintage Home Show to bring their fantastic selection of Vintage interior styling from 60 specialist dealers to the Baths this October. Discover and shop the best Furniture\, Ceramics\, Art\, Homewares and Records. \nOnce inside the fabulous Grade II* Victoria Baths\, you’ll find the main hall\, swimming pool\, and balcony filled with Vintage Traders. Find unique and fabulous items from the 1930’s-1990’s for your home including Sideboards\, Dining Furniture\, Funky Chairs\, Lighting\, Retro Artwork\, Atomic Fabrics\, Radios and much more! Prices from £1 to £1000’s. \nIf you are new to vintage\, we’d love you to come along and convert you to a more sustainable way of shopping for your home! \n \nVintage Home Show operates a timed ticket entry as the show is very popular and gets busy. This way we can manage the number of visitors in the building to keep your visit a pleasure and allow you to see everything. Simply arrive anytime within your allocated hour and stay as long as you wish. \n\nEarly Bird entry is 10:30am (for those who are really keen)\nStandard Entry is from 11 am onwards. Pick a time slot\, arrive between those times\, and then stay as long as you want\nUnder 16 years GO FREE\nFind the nearest multi-story at the Manchester Royal Infirmary up the road (more info here)\, or you can find free on-street car parking in the local area. Parking at the Baths is very limited.\nNo dogs allowed (sorry)\, only assistance dogs\nThe event takes place in various parts of the Edwardian Swimming Baths and there are stairs involved to get to two areas of the show. Due to the age of the venue\, there are no lifts. However\, the main hall and cafe are fully accessible.\nMost traders take card payments but we advise you to bring some cash too. There are cash machines just up the road if you need one. Ask our door staff for directions.\nAn on-site café serving a selection of cakes\, savories\, pastries\, soup\, and drinks will be open during the fair.\nA booking fee of 50p is applied per transaction\, not per ticket.\nOnce your visitor ticket(s) is/are booked and paid\, there is no refund option available.\nGinger Biscuit Events Limited take Photographs and/or videos at The Vintage Home Shows. If you do not wish to be photographed please inform us to ensure your privacy is protected. By visiting our event\, you grant Ginger Biscuit Events Limited organisers of The Vintage Home Show the full rights to use imagery.\nGet in touch with Ginger Biscuit Events if you have any questions before the event\n\n 
URL:https://victoriabaths.org.uk/event/vintagehomeoct/
LOCATION:Victoria Baths\, Hathersage Road\, Chorlton-on-Medlock\, Greater Manchester\, M13 0FE\, United Kingdom
CATEGORIES:Events at VB,Partner Events
ATTACH;FMTTYPE=image/png:https://victoriabaths.org.uk/wp-content/uploads/2024/07/Untitled-design-77.png
ORGANIZER;CN="Vintage Home Show":MAILTO:hello@gingerbiscuitevents.co.uk
END:VEVENT
BEGIN:VEVENT
DTSTART;TZID=Europe/London:20241026T110000
DTEND;TZID=Europe/London:20241026T140000
DTSTAMP:20260422T003515
CREATED:20240813T135418Z
LAST-MODIFIED:20241020T141728Z
UID:6721-1729940400-1729951200@victoriabaths.org.uk
SUMMARY:Mini Monster Mash\, Sat 26 Oct
DESCRIPTION:Get your Minis to our Monster Mash for a unique \nHalloween Bash at Victoria Baths!\nDate: Saturday\, 26 October\nTime: 11 am – 2 pm\nGrab your dancing shoes & your best fancy dress for a howling good time! \nOur frighteningly fun Halloween party is perfect for kids and adults alike. Join us at the historic and enchanting Victoria Baths for a one-of-a-kind event that promises a ghoulishly good time. With a variety of activities and entertainment for all ages\, you won’t want to miss out on this hair-raising celebration. \nBook your tickets here\n🎧 Silent Disco & Dancing \nStep into our silent disco where you can groove to your favorite tunes on separate channels.\nDance your heart out in the eerie ambiance of Victoria Baths! \n👻 Haunted Music Channels \nChoose between our kid-friendly music channel and an adult tracklist that’ll keep you moving all afternoon. From spooky soundtracks to Halloween classics\, we’ve got the beats to match your mood! \n🎃 Spooky Decor \nVictoria Baths will be transformed into a Halloween wonderland\, with sp \nooky decorations adorning every corner. \n​With sports of spooky selfies\, it’s a great Halloween haunt to show off your best ​frightful fancy ​dress. \n🍬 Tuck Shop Delights \nIndulge in some devilishly delicious treats from our tuck shop. From creepy candies to delightful snacks\, we’ve got a range of goodies to satisfy all your cravings. \n🎨 Crafts and Activity Trail \nUnleash your creativity with Halloween-themed crafts suitable for all ages. Whether you’re a little ghoul or a grown-up ghost our\, Halloween-themed ‘Miles of Tiles’ activity trail will lead you to unexpected surprises! \n🔍 Explore Victoria Baths \nDiscover the fascinating history of Victoria Baths as you wander through its stunning architecture and unique spaces. Learn about its past and present while getting lost in its hauntingly beautiful ambiance. \nEvent Details:\nDate: Saturday\, 26 October \nTime: 11 am – 2 pm \nLocation: Victoria Baths \nPrice: £4 per person (each ticket includes headphones/ages 1 and under are free but won’t receive headphones) \n🎶🎃 With music\, dancing\, crafts\, and more\, this Halloween party promises to be howlingly good fun for everyone in the family. It’s a chance to let loose\, enjoy the spookiness\, and make unforgettable memories together. 🧛‍♀️🎶 \nBooking in advance is recommended. \nAll ticket and drink purchases support the Victoria Baths Trust in preserving the Baths for the future and ensuring we can open them for all to explore. \n🎶🧛‍♀️🏰🎃🎶🎧👻 \n   \n 
URL:https://victoriabaths.org.uk/event/monster-mash/
LOCATION:Victoria Baths\, Hathersage Road\, Chorlton-on-Medlock\, Greater Manchester\, M13 0FE\, United Kingdom
CATEGORIES:Events at VB
ATTACH;FMTTYPE=image/png:https://victoriabaths.org.uk/wp-content/uploads/2024/08/Mini-Monster-Mash-Poster-2024-FINAL-Facebook-Ad-2.png
END:VEVENT
END:VCALENDAR