BEGIN:VCALENDAR
VERSION:2.0
PRODID:-//Victoria Baths - ECPv6.15.20//NONSGML v1.0//EN
CALSCALE:GREGORIAN
METHOD:PUBLISH
X-ORIGINAL-URL:https://victoriabaths.org.uk
X-WR-CALDESC:Events for Victoria Baths
REFRESH-INTERVAL;VALUE=DURATION:PT1H
X-Robots-Tag:noindex
X-PUBLISHED-TTL:PT1H
BEGIN:VTIMEZONE
TZID:Europe/London
BEGIN:DAYLIGHT
TZOFFSETFROM:+0000
TZOFFSETTO:+0100
TZNAME:BST
DTSTART:20230326T010000
END:DAYLIGHT
BEGIN:STANDARD
TZOFFSETFROM:+0100
TZOFFSETTO:+0000
TZNAME:GMT
DTSTART:20231029T010000
END:STANDARD
BEGIN:DAYLIGHT
TZOFFSETFROM:+0000
TZOFFSETTO:+0100
TZNAME:BST
DTSTART:20240331T010000
END:DAYLIGHT
BEGIN:STANDARD
TZOFFSETFROM:+0100
TZOFFSETTO:+0000
TZNAME:GMT
DTSTART:20241027T010000
END:STANDARD
BEGIN:DAYLIGHT
TZOFFSETFROM:+0000
TZOFFSETTO:+0100
TZNAME:BST
DTSTART:20250330T010000
END:DAYLIGHT
BEGIN:STANDARD
TZOFFSETFROM:+0100
TZOFFSETTO:+0000
TZNAME:GMT
DTSTART:20251026T010000
END:STANDARD
END:VTIMEZONE
BEGIN:VEVENT
DTSTART;TZID=Europe/London:20241201T110000
DTEND;TZID=Europe/London:20241201T160000
DTSTAMP:20260423T202512
CREATED:20241002T121121Z
LAST-MODIFIED:20241120T172412Z
UID:6967-1733050800-1733068800@victoriabaths.org.uk
SUMMARY:Festive Winter Fair
DESCRIPTION:Join us for our annual Festive Winter Fair at the beautiful Victoria Baths!\nExplore 50 handpicked stalls from Manchester makers. Featuring a wide variety of high-quality\, handcrafted goods such as art\, jewelry\, prints\, candles\, Christmas decor\, delicious treats\, and more. \nGet the festive feeling with performances from local choirs\, and enjoy seasonal treats like mulled wine\, mince pies\, cakes\, and more in our Tea Room. \nStart your Christmas shopping in style and soak up the festive atmosphere. Plus… \n\nExplore the magnificent Grade II* listed building\, including the three pool halls\, Turkish Baths\, and entrance halls.\nEnhance your experience with our Discover VB guided tour\, exploring the heritage and history of “Britain’s finest historic municipal pool”. The tour costs £10\, includes entry to the Festive Winter Fair\, starting at 11:15 am and lasting just over an hour. Please note there is only one tour available at this event – please book in advance to avoid disappointment.\nEnjoy live performances from four local choirs in the deep end of the females pool\n\nBuy your tickets here. \nWe recommend booking tickets in advance – especially Tour tickets as these are likely to sell out.\n📅 Sunday 1 December\n⏰ 11 am – 4 pm (last entry 3pm)\n💷 Entry £4 (under 18s free) // Tour + Entry £10\n👉 Guided Tour – 11:15 am\n🎼 Choirs from 11:30 am & throughout the day\n🍰 Tea Room; with festive treats and mulled wine🎁 VB Gift Shop with unique Victoria Baths and Manchester inspired gifts\, including tea towels\, mugs\, postcards\, and even small-batch VB Gin! \nCheck out the list of stallholders here – please note stallholders may sometimes change due to unforeseen circumstances. \n\nGIVE A GIFT – Community giving scheme\nThis year we’re partnering with two local charities to help collect gift and food donations to support our wider community this Christmas. If you can\, please consider bringing a gift (unwrapped) and/ or an item of canned/ long-life food. \nOur charity partners are…\nTDAS (Trafford Domestic Abuse Services) \nTDAS provides vital support to families affected by domestic abuse\, offering safe refuge and helping individuals rebuild their lives. Our Christmas Gift Appeal is dedicated to bringing joy to families in our refuges\, including children of all ages\, as well as the women and men who seek safety and support with us. We welcome unwrapped gifts\, allowing our team to match the perfect presents to each family member\, ensuring everyone feels the warmth and care this Christmas. Visit the TDAS website for suggested gift ideas. \nManchester Central Foodbank\nWe don’t think anyone in our community should face going hungry. That’s why we provide three days of nutritionally balanced emergency food and support to local people referred to us in crisis. We are part of a nationwide network of foodbanks\, supported by The Trussell Trust\, working to combat poverty and hunger across the UK. For ideas of what food items are needed at the moment please click here.  \nYou can also purchase a gift from one of the stall holders\, and add it to the collection on the day!\nCollection point – Females Entrance \nFor more information on our Gift Giving scheme please get in touch with community@victoriabaths.org.uk  \n 
URL:https://victoriabaths.org.uk/event/festivefair2024/
LOCATION:Victoria Baths\, Hathersage Road\, Chorlton-on-Medlock\, Greater Manchester\, M13 0FE\, United Kingdom
CATEGORIES:Events at VB
ATTACH;FMTTYPE=image/png:https://victoriabaths.org.uk/wp-content/uploads/2024/10/FWF-MPU-1.png
END:VEVENT
END:VCALENDAR